BEGIN:VCALENDAR
VERSION:2.0
PRODID:-//85.13.139.124//NONSGML kigkonsult.se iCalcreator 2.20//
CALSCALE:GREGORIAN
METHOD:PUBLISH
X-WR-TIMEZONE:Europe/Berlin
BEGIN:VEVENT
UID:event1@Bayerischer Wald-Verein, Sektion Freyung
DTSTAMP:20260420T120942Z
CATEGORIES:Jahresprogramm
DESCRIPTION:Radtour\nKategorie: Jahresprogramm\nICS-Link: https://waldverei
 n-freyung.de/index.php?option=com_jem&view=event&id=1:radtour\n
DTSTART;VALUE=DATE:20150801
DTEND;VALUE=DATE:20150802
SUMMARY:Radtour
URL:https://waldverein-freyung.de/index.php?option=com_jem&view=event&id=1:
 radtour
END:VEVENT
END:VCALENDAR
