BEGIN:VCALENDAR
VERSION:2.0
PRODID:-//85.13.139.124//NONSGML kigkonsult.se iCalcreator 2.20//
CALSCALE:GREGORIAN
METHOD:PUBLISH
X-WR-TIMEZONE:Europe/Berlin
BEGIN:VEVENT
UID:event100@Bayerischer Wald-Verein, Sektion Freyung
DTSTAMP:20260420T144528Z
CATEGORIES:Jahresprogramm
DESCRIPTION:Starkbierfest\nKategorie: Jahresprogramm\nICS-Link: https://wal
 dverein-freyung.de/index.php?option=com_jem&view=event&id=100:starkbierfes
 t\n
DTSTART;VALUE=DATE:20180309
DTEND;VALUE=DATE:20180310
LOCATION:Kurhaus\,Freyung
SUMMARY:Starkbierfest
URL:https://waldverein-freyung.de/index.php?option=com_jem&view=event&id=10
 0:starkbierfest
END:VEVENT
END:VCALENDAR
