BEGIN:VCALENDAR
VERSION:2.0
PRODID:-//85.13.139.124//NONSGML kigkonsult.se iCalcreator 2.20//
CALSCALE:GREGORIAN
METHOD:PUBLISH
X-WR-TIMEZONE:Europe/Berlin
BEGIN:VEVENT
UID:event101@Bayerischer Wald-Verein, Sektion Freyung
DTSTAMP:20260420T144601Z
CATEGORIES:Jahresprogramm
DESCRIPTION:Kreuzweg in der Leithe\nKategorie: Jahresprogramm\nICS-Link: ht
 tps://waldverein-freyung.de/index.php?option=com_jem&view=event&id=101:kre
 uzweg-in-der-leithe\n
DTSTART;TZID=Europe/Berlin:20180321T090000
DTEND;TZID=Europe/Berlin:20180321T090000
LOCATION:St. Gunther-Kapelle\,Freyung
SUMMARY:Kreuzweg in der Leithe
URL:https://waldverein-freyung.de/index.php?option=com_jem&view=event&id=10
 1:kreuzweg-in-der-leithe
END:VEVENT
END:VCALENDAR
