BEGIN:VCALENDAR
VERSION:2.0
PRODID:-//85.13.139.124//NONSGML kigkonsult.se iCalcreator 2.20//
CALSCALE:GREGORIAN
METHOD:PUBLISH
X-WR-TIMEZONE:Europe/Berlin
BEGIN:VEVENT
UID:event102@Bayerischer Wald-Verein, Sektion Freyung
DTSTAMP:20260420T162021Z
CATEGORIES:Jahresprogramm
DESCRIPTION:Ilzwanderung\nKategorie: Jahresprogramm\nICS-Link: https://wald
 verein-freyung.de/index.php?option=com_jem&view=event&id=102:ilzwanderung
 \n
DTSTART;TZID=Europe/Berlin:20180414T130000
DTEND;TZID=Europe/Berlin:20180414T130000
SUMMARY:Ilzwanderung
URL:https://waldverein-freyung.de/index.php?option=com_jem&view=event&id=10
 2:ilzwanderung
END:VEVENT
END:VCALENDAR
