BEGIN:VCALENDAR
VERSION:2.0
PRODID:-//85.13.139.124//NONSGML kigkonsult.se iCalcreator 2.20//
CALSCALE:GREGORIAN
METHOD:PUBLISH
X-WR-TIMEZONE:Europe/Berlin
BEGIN:VEVENT
UID:event105@Bayerischer Wald-Verein, Sektion Freyung
DTSTAMP:20260420T144606Z
CATEGORIES:Jahresprogramm
DESCRIPTION:Frühlingswanderung Buchberger Leithe\nKategorie: Jahresprogramm
 \nICS-Link: https://waldverein-freyung.de/index.php?option=com_jem&view=ev
 ent&id=105:fruehlingswanderung-buchberger-leithe\n
DTSTART;TZID=Europe/Berlin:20180501T130000
DTEND;TZID=Europe/Berlin:20180501T130000
LOCATION:Freyung-Grüne-Hand\,Freyung
SUMMARY:Frühlingswanderung Buchberger Leithe
URL:https://waldverein-freyung.de/index.php?option=com_jem&view=event&id=10
 5:fruehlingswanderung-buchberger-leithe
END:VEVENT
END:VCALENDAR
