BEGIN:VCALENDAR
VERSION:2.0
PRODID:-//85.13.139.124//NONSGML kigkonsult.se iCalcreator 2.20//
CALSCALE:GREGORIAN
METHOD:PUBLISH
X-WR-TIMEZONE:Europe/Berlin
BEGIN:VEVENT
UID:event106@Bayerischer Wald-Verein, Sektion Freyung
DTSTAMP:20260420T144750Z
CATEGORIES:Jahresprogramm
DESCRIPTION:Wanderung am Schwarzen Regen\nKategorie: Jahresprogramm\nICS-Li
 nk: https://waldverein-freyung.de/index.php?option=com_jem&view=event&id=1
 06:wanderung-am-schwarzen-regen\n
DTSTART;TZID=Europe/Berlin:20180512T110000
DTEND;TZID=Europe/Berlin:20180512T110000
LOCATION:Gumpenried-Asbach\,94244 Geiersthal
SUMMARY:Wanderung am Schwarzen Regen
URL:https://waldverein-freyung.de/index.php?option=com_jem&view=event&id=10
 6:wanderung-am-schwarzen-regen
END:VEVENT
END:VCALENDAR
