BEGIN:VCALENDAR
VERSION:2.0
PRODID:-//85.13.139.124//NONSGML kigkonsult.se iCalcreator 2.20//
CALSCALE:GREGORIAN
METHOD:PUBLISH
X-WR-TIMEZONE:Europe/Berlin
BEGIN:VEVENT
UID:event107@Bayerischer Wald-Verein, Sektion Freyung
DTSTAMP:20260420T162211Z
CATEGORIES:Jahresprogramm
DESCRIPTION:Wanderung: Scheuerecker Runde CZ\nKategorie: Jahresprogramm\nIC
 S-Link: https://waldverein-freyung.de/index.php?option=com_jem&view=event&
 id=107:wanderung-scheuerecker-runde-cz\n
DTSTART;TZID=Europe/Berlin:20180526T093000
DTEND;TZID=Europe/Berlin:20180526T093000
LOCATION:Hinterfirmiansreut\,94158 Philippsreut
SUMMARY:Wanderung: Scheuerecker Runde CZ
URL:https://waldverein-freyung.de/index.php?option=com_jem&view=event&id=10
 7:wanderung-scheuerecker-runde-cz
END:VEVENT
END:VCALENDAR
