BEGIN:VCALENDAR
VERSION:2.0
PRODID:-//85.13.139.124//NONSGML kigkonsult.se iCalcreator 2.20//
CALSCALE:GREGORIAN
METHOD:PUBLISH
X-WR-TIMEZONE:Europe/Berlin
BEGIN:VEVENT
UID:event108@Bayerischer Wald-Verein, Sektion Freyung
DTSTAMP:20260420T145030Z
CATEGORIES:Jahresprogramm
DESCRIPTION:Bayerwaldtage in Schönbrunn am Lusen\nKategorie: Jahresprogramm
 \nICS-Link: https://waldverein-freyung.de/index.php?option=com_jem&view=ev
 ent&id=108:bayerwaldtage-in-schoenbrunn-am-lusen\n
DTSTART;VALUE=DATE:20180609
DTEND;VALUE=DATE:20180611
LOCATION:Freiwillige Feuerwehr Schönbrunn am Lusen e.V.\,Schönbrunnerhäuser
  615\,94545 Hohenau
SUMMARY:Bayerwaldtage in Schönbrunn am Lusen
URL:https://waldverein-freyung.de/index.php?option=com_jem&view=event&id=10
 8:bayerwaldtage-in-schoenbrunn-am-lusen
END:VEVENT
END:VCALENDAR
