BEGIN:VCALENDAR
VERSION:2.0
PRODID:-//85.13.139.124//NONSGML kigkonsult.se iCalcreator 2.20//
CALSCALE:GREGORIAN
METHOD:PUBLISH
X-WR-TIMEZONE:Europe/Berlin
BEGIN:VEVENT
UID:event110@Bayerischer Wald-Verein, Sektion Freyung
DTSTAMP:20260420T132827Z
CATEGORIES:Jahresprogramm
DESCRIPTION:Volksfestauftakt\nKategorie: Jahresprogramm\nICS-Link: https://
 waldverein-freyung.de/index.php?option=com_jem&view=event&id=110:volksfest
 auftakt\n
DTSTART;TZID=Europe/Berlin:20180629T170000
DTEND;TZID=Europe/Berlin:20180629T170000
SUMMARY:Volksfestauftakt
URL:https://waldverein-freyung.de/index.php?option=com_jem&view=event&id=11
 0:volksfestauftakt
END:VEVENT
END:VCALENDAR
