BEGIN:VCALENDAR
VERSION:2.0
PRODID:-//85.13.139.124//NONSGML kigkonsult.se iCalcreator 2.20//
CALSCALE:GREGORIAN
METHOD:PUBLISH
X-WR-TIMEZONE:Europe/Berlin
BEGIN:VEVENT
UID:event111@Bayerischer Wald-Verein, Sektion Freyung
DTSTAMP:20260420T133425Z
CATEGORIES:Jahresprogramm
DESCRIPTION:Wanderung Mühlviertel (OÖ)\nKategorie: Jahresprogramm\nICS-Link
 : https://waldverein-freyung.de/index.php?option=com_jem&view=event&id=111
 :wanderung-muehlviertel-ooe\n
DTSTART;TZID=Europe/Berlin:20180707T100000
DTEND;TZID=Europe/Berlin:20180707T100000
LOCATION:Aigen
SUMMARY:Wanderung Mühlviertel (OÖ)
URL:https://waldverein-freyung.de/index.php?option=com_jem&view=event&id=11
 1:wanderung-muehlviertel-ooe
END:VEVENT
END:VCALENDAR
