BEGIN:VCALENDAR
VERSION:2.0
PRODID:-//85.13.139.124//NONSGML kigkonsult.se iCalcreator 2.20//
CALSCALE:GREGORIAN
METHOD:PUBLISH
X-WR-TIMEZONE:Europe/Berlin
BEGIN:VEVENT
UID:event114@Bayerischer Wald-Verein, Sektion Freyung
DTSTAMP:20260420T144745Z
CATEGORIES:Jahresprogramm
DESCRIPTION:Waldfest in Schwendreut\nKategorie: Jahresprogramm\nICS-Link: h
 ttps://waldverein-freyung.de/index.php?option=com_jem&view=event&id=114:wa
 ldfest-in-schwendreut\n
DTSTART;TZID=Europe/Berlin:20180729T090000
DTEND;TZID=Europe/Berlin:20180729T090000
LOCATION:Schwendreut\,94143 Grainet
SUMMARY:Waldfest in Schwendreut
URL:https://waldverein-freyung.de/index.php?option=com_jem&view=event&id=11
 4:waldfest-in-schwendreut
END:VEVENT
END:VCALENDAR
