BEGIN:VCALENDAR
VERSION:2.0
PRODID:-//85.13.139.124//NONSGML kigkonsult.se iCalcreator 2.20//
CALSCALE:GREGORIAN
METHOD:PUBLISH
X-WR-TIMEZONE:Europe/Berlin
BEGIN:VEVENT
UID:event115@Bayerischer Wald-Verein, Sektion Freyung
DTSTAMP:20260420T144319Z
CATEGORIES:Jahresprogramm
DESCRIPTION:Info\nKategorie: Jahresprogramm\nICS-Link: https://waldverein-f
 reyung.de/index.php?option=com_jem&view=event&id=115:info\n
DTSTART;VALUE=DATE:20180729
DTEND;VALUE=DATE:20180730
SUMMARY:Info
URL:https://waldverein-freyung.de/index.php?option=com_jem&view=event&id=11
 5:info
END:VEVENT
END:VCALENDAR
