BEGIN:VCALENDAR
VERSION:2.0
PRODID:-//85.13.139.124//NONSGML kigkonsult.se iCalcreator 2.20//
CALSCALE:GREGORIAN
METHOD:PUBLISH
X-WR-TIMEZONE:Europe/Berlin
BEGIN:VEVENT
UID:event116@Bayerischer Wald-Verein, Sektion Freyung
DTSTAMP:20260420T134116Z
CATEGORIES:Jahresprogramm
DESCRIPTION:Kirchweihfest in Rehberg (Srni\, Cz)\, Besichtigung Burg Kasper
 ek in Bergreichenstein\nKategorie: Jahresprogramm\nICS-Link: https://waldv
 erein-freyung.de/index.php?option=com_jem&view=event&id=116:kirchweihfest-
 der-hauswaldkapelle-in-rehberg-srni-cz\n
DTSTART;TZID=Europe/Berlin:20180811T073000
DTEND;TZID=Europe/Berlin:20180811T073000
LOCATION:Srni (Cz)\,341 92 Srní
SUMMARY:Kirchweihfest in Rehberg (Srni\, Cz)\, Besichtigung Burg Kasperek i
 n Bergreichenstein
URL:https://waldverein-freyung.de/index.php?option=com_jem&view=event&id=11
 6:kirchweihfest-der-hauswaldkapelle-in-rehberg-srni-cz
END:VEVENT
END:VCALENDAR
