BEGIN:VCALENDAR
VERSION:2.0
PRODID:-//85.13.139.124//NONSGML kigkonsult.se iCalcreator 2.20//
CALSCALE:GREGORIAN
METHOD:PUBLISH
X-WR-TIMEZONE:Europe/Berlin
BEGIN:VEVENT
UID:event121@Bayerischer Wald-Verein, Sektion Freyung
DTSTAMP:20260420T132452Z
CATEGORIES:Jahresprogramm
DESCRIPTION:Langdorf\nKategorie: Jahresprogramm\nICS-Link: https://waldvere
 in-freyung.de/index.php?option=com_jem&view=event&id=121:langdorf\n
DTSTART;TZID=Europe/Berlin:20181006T091500
DTEND;TZID=Europe/Berlin:20181006T091500
LOCATION:Langdorf\,94264 Langdorf
SUMMARY:Langdorf
URL:https://waldverein-freyung.de/index.php?option=com_jem&view=event&id=12
 1:langdorf
END:VEVENT
END:VCALENDAR
