BEGIN:VCALENDAR
VERSION:2.0
PRODID:-//85.13.139.124//NONSGML kigkonsult.se iCalcreator 2.20//
CALSCALE:GREGORIAN
METHOD:PUBLISH
X-WR-TIMEZONE:Europe/Berlin
BEGIN:VEVENT
UID:event123@Bayerischer Wald-Verein, Sektion Freyung
DTSTAMP:20260420T133632Z
CATEGORIES:Jahresprogramm
DESCRIPTION:Herbstwanderung zum Tummelplatz\nKategorie: Jahresprogramm\nICS
 -Link: https://waldverein-freyung.de/index.php?option=com_jem&view=event&i
 d=123:herbstwanderung-zum-tummelplatz\n
DTSTART;TZID=Europe/Berlin:20181020T080000
DTEND;TZID=Europe/Berlin:20181020T080000
LOCATION:Tummelplatz\,Mauth
SUMMARY:Herbstwanderung zum Tummelplatz
URL:https://waldverein-freyung.de/index.php?option=com_jem&view=event&id=12
 3:herbstwanderung-zum-tummelplatz
END:VEVENT
END:VCALENDAR
