BEGIN:VCALENDAR
VERSION:2.0
PRODID:-//85.13.139.124//NONSGML kigkonsult.se iCalcreator 2.20//
CALSCALE:GREGORIAN
METHOD:PUBLISH
X-WR-TIMEZONE:Europe/Berlin
BEGIN:VEVENT
UID:event128@Bayerischer Wald-Verein, Sektion Freyung
DTSTAMP:20260422T085116Z
CATEGORIES:Jahresprogramm
DESCRIPTION:Fackelwanderung\nKategorie: Jahresprogramm\nICS-Link: https://w
 aldverein-freyung.de/index.php?option=com_jem&view=event&id=128:fackelwand
 erung\n
DTSTART;TZID=Europe/Berlin:20190112T180000
DTEND;TZID=Europe/Berlin:20190112T180000
SUMMARY:Fackelwanderung
URL:https://waldverein-freyung.de/index.php?option=com_jem&view=event&id=12
 8:fackelwanderung
END:VEVENT
END:VCALENDAR
