BEGIN:VCALENDAR
VERSION:2.0
PRODID:-//85.13.139.124//NONSGML kigkonsult.se iCalcreator 2.20//
CALSCALE:GREGORIAN
METHOD:PUBLISH
X-WR-TIMEZONE:Europe/Berlin
BEGIN:VEVENT
UID:event130@Bayerischer Wald-Verein, Sektion Freyung
DTSTAMP:20260420T132718Z
CATEGORIES:Jahresprogramm
DESCRIPTION:Schneeschuhwanderung\nKategorie: Jahresprogramm\nICS-Link: http
 s://waldverein-freyung.de/index.php?option=com_jem&view=event&id=130:schne
 eschuhwanderung\n
DTSTART;TZID=Europe/Berlin:20190210T090000
DTEND;TZID=Europe/Berlin:20190210T090000
SUMMARY:Schneeschuhwanderung
URL:https://waldverein-freyung.de/index.php?option=com_jem&view=event&id=13
 0:schneeschuhwanderung
END:VEVENT
END:VCALENDAR
