BEGIN:VCALENDAR
VERSION:2.0
PRODID:-//85.13.139.124//NONSGML kigkonsult.se iCalcreator 2.20//
CALSCALE:GREGORIAN
METHOD:PUBLISH
X-WR-TIMEZONE:Europe/Berlin
BEGIN:VEVENT
UID:event136@Bayerischer Wald-Verein, Sektion Freyung
DTSTAMP:20260420T162757Z
CATEGORIES:Jahresprogramm
DESCRIPTION:Starkbierfest im Kurhaus Freyung\nKategorie: Jahresprogramm\nIC
 S-Link: https://waldverein-freyung.de/index.php?option=com_jem&view=event&
 id=136:starkbierfest-im-kurhaus-freyung\n
DTSTART;VALUE=DATE:20190329
DTEND;VALUE=DATE:20190330
SUMMARY:Starkbierfest im Kurhaus Freyung
URL:https://waldverein-freyung.de/index.php?option=com_jem&view=event&id=13
 6:starkbierfest-im-kurhaus-freyung
END:VEVENT
END:VCALENDAR
