BEGIN:VCALENDAR
VERSION:2.0
PRODID:-//85.13.139.124//NONSGML kigkonsult.se iCalcreator 2.20//
CALSCALE:GREGORIAN
METHOD:PUBLISH
X-WR-TIMEZONE:Europe/Berlin
BEGIN:VEVENT
UID:event141@Bayerischer Wald-Verein, Sektion Freyung
DTSTAMP:20260422T132002Z
CATEGORIES:Jahresprogramm
DESCRIPTION:Heimatfest in Mauth\nKategorie: Jahresprogramm\nICS-Link: https
 ://waldverein-freyung.de/index.php?option=com_jem&view=event&id=141:heimat
 fest-in-mauth\n
DTSTART;TZID=Europe/Berlin:20190524T150000
DTEND;TZID=Europe/Berlin:20190526T150000
SUMMARY:Heimatfest in Mauth
URL:https://waldverein-freyung.de/index.php?option=com_jem&view=event&id=14
 1:heimatfest-in-mauth
END:VEVENT
END:VCALENDAR
