BEGIN:VCALENDAR
VERSION:2.0
PRODID:-//85.13.139.124//NONSGML kigkonsult.se iCalcreator 2.20//
CALSCALE:GREGORIAN
METHOD:PUBLISH
X-WR-TIMEZONE:Europe/Berlin
BEGIN:VEVENT
UID:event143@Bayerischer Wald-Verein, Sektion Freyung
DTSTAMP:20260422T132002Z
CATEGORIES:Jahresprogramm
DESCRIPTION:Bergwanderung Grünstein\nKategorie: Jahresprogramm\nICS-Link: h
 ttps://waldverein-freyung.de/index.php?option=com_jem&view=event&id=143:be
 rgwanderung-gruenstein\n
DTSTART;TZID=Europe/Berlin:20190615T063000
DTEND;TZID=Europe/Berlin:20190615T063000
SUMMARY:Bergwanderung Grünstein
URL:https://waldverein-freyung.de/index.php?option=com_jem&view=event&id=14
 3:bergwanderung-gruenstein
END:VEVENT
END:VCALENDAR
