BEGIN:VCALENDAR
VERSION:2.0
PRODID:-//85.13.139.124//NONSGML kigkonsult.se iCalcreator 2.20//
CALSCALE:GREGORIAN
METHOD:PUBLISH
X-WR-TIMEZONE:Europe/Berlin
BEGIN:VEVENT
UID:event144@Bayerischer Wald-Verein, Sektion Freyung
DTSTAMP:20260422T132034Z
CATEGORIES:Jahresprogramm
DESCRIPTION:Volksfestauftakt\nKategorie: Jahresprogramm\nICS-Link: https://
 waldverein-freyung.de/index.php?option=com_jem&view=event&id=144:volksfest
 auftakt\n
DTSTART;TZID=Europe/Berlin:20190628T170000
DTEND;TZID=Europe/Berlin:20190628T170000
SUMMARY:Volksfestauftakt
URL:https://waldverein-freyung.de/index.php?option=com_jem&view=event&id=14
 4:volksfestauftakt
END:VEVENT
END:VCALENDAR
