BEGIN:VCALENDAR
VERSION:2.0
PRODID:-//85.13.139.124//NONSGML kigkonsult.se iCalcreator 2.20//
CALSCALE:GREGORIAN
METHOD:PUBLISH
X-WR-TIMEZONE:Europe/Berlin
BEGIN:VEVENT
UID:event145@Bayerischer Wald-Verein, Sektion Freyung
DTSTAMP:20260422T132536Z
CATEGORIES:Jahresprogramm
DESCRIPTION:Bergwanderung im Höllengebirge und zu den Langbathseen\nKategor
 ie: Jahresprogramm\nICS-Link: https://waldverein-freyung.de/index.php?opti
 on=com_jem&view=event&id=145:bergwanderung-im-hoellengebirge-und-zu-den-la
 ngbathseen\n
DTSTART;TZID=Europe/Berlin:20190713T053000
DTEND;TZID=Europe/Berlin:20190713T053000
SUMMARY:Bergwanderung im Höllengebirge und zu den Langbathseen
URL:https://waldverein-freyung.de/index.php?option=com_jem&view=event&id=14
 5:bergwanderung-im-hoellengebirge-und-zu-den-langbathseen
END:VEVENT
END:VCALENDAR
