BEGIN:VCALENDAR
VERSION:2.0
PRODID:-//85.13.139.124//NONSGML kigkonsult.se iCalcreator 2.20//
CALSCALE:GREGORIAN
METHOD:PUBLISH
X-WR-TIMEZONE:Europe/Berlin
BEGIN:VEVENT
UID:event147@Bayerischer Wald-Verein, Sektion Freyung
DTSTAMP:20260422T132111Z
CATEGORIES:Jahresprogramm
DESCRIPTION:Waldfest in Schwendreut \nKategorie: Jahresprogramm\nICS-Link: 
 https://waldverein-freyung.de/index.php?option=com_jem&view=event&id=147:w
 aldfest-in-schwendreut\n
DTSTART;TZID=Europe/Berlin:20190728T090000
DTEND;TZID=Europe/Berlin:20190728T090000
SUMMARY:Waldfest in Schwendreut 
URL:https://waldverein-freyung.de/index.php?option=com_jem&view=event&id=14
 7:waldfest-in-schwendreut
END:VEVENT
END:VCALENDAR
