BEGIN:VCALENDAR
VERSION:2.0
PRODID:-//85.13.139.124//NONSGML kigkonsult.se iCalcreator 2.20//
CALSCALE:GREGORIAN
METHOD:PUBLISH
X-WR-TIMEZONE:Europe/Berlin
BEGIN:VEVENT
UID:event148@Bayerischer Wald-Verein, Sektion Freyung
DTSTAMP:20260422T132034Z
CATEGORIES:Jahresprogramm
DESCRIPTION:Wanderung bei Thurmansbang\nKategorie: Jahresprogramm\nICS-Link
 : https://waldverein-freyung.de/index.php?option=com_jem&view=event&id=148
 :wanderung-bei-thurmansbang\n
DTSTART;TZID=Europe/Berlin:20190803T110000
DTEND;TZID=Europe/Berlin:20190803T110000
SUMMARY:Wanderung bei Thurmansbang
URL:https://waldverein-freyung.de/index.php?option=com_jem&view=event&id=14
 8:wanderung-bei-thurmansbang
END:VEVENT
END:VCALENDAR
