BEGIN:VCALENDAR
VERSION:2.0
PRODID:-//85.13.139.124//NONSGML kigkonsult.se iCalcreator 2.20//
CALSCALE:GREGORIAN
METHOD:PUBLISH
X-WR-TIMEZONE:Europe/Berlin
BEGIN:VEVENT
UID:event149@Bayerischer Wald-Verein, Sektion Freyung
DTSTAMP:20260422T132002Z
CATEGORIES:Jahresprogramm
DESCRIPTION:Schloßfest Freyung\nKategorie: Jahresprogramm\nICS-Link: https:
 //waldverein-freyung.de/index.php?option=com_jem&view=event&id=149:schloss
 fest-freyung\n
DTSTART;VALUE=DATE:20190906
DTEND;VALUE=DATE:20190909
SUMMARY:Schloßfest Freyung
URL:https://waldverein-freyung.de/index.php?option=com_jem&view=event&id=14
 9:schlossfest-freyung
END:VEVENT
END:VCALENDAR
