BEGIN:VCALENDAR
VERSION:2.0
PRODID:-//85.13.139.124//NONSGML kigkonsult.se iCalcreator 2.20//
CALSCALE:GREGORIAN
METHOD:PUBLISH
X-WR-TIMEZONE:Europe/Berlin
BEGIN:VEVENT
UID:event150@Bayerischer Wald-Verein, Sektion Freyung
DTSTAMP:20260424T094819Z
CATEGORIES:Jahresprogramm
DESCRIPTION:Radtour\nKategorie: Jahresprogramm\nICS-Link: https://waldverei
 n-freyung.de/index.php?option=com_jem&view=event&id=150:radtour\n
DTSTART;VALUE=DATE:20190817
DTEND;VALUE=DATE:20190818
SUMMARY:Radtour
URL:https://waldverein-freyung.de/index.php?option=com_jem&view=event&id=15
 0:radtour
END:VEVENT
END:VCALENDAR
