BEGIN:VCALENDAR
VERSION:2.0
PRODID:-//85.13.139.124//NONSGML kigkonsult.se iCalcreator 2.20//
CALSCALE:GREGORIAN
METHOD:PUBLISH
X-WR-TIMEZONE:Europe/Berlin
BEGIN:VEVENT
UID:event151@Bayerischer Wald-Verein, Sektion Freyung
DTSTAMP:20260424T083538Z
CATEGORIES:Jahresprogramm
DESCRIPTION:Arberkirchweih\nKategorie: Jahresprogramm\nICS-Link: https://wa
 ldverein-freyung.de/index.php?option=com_jem&view=event&id=151:arberkirchw
 eih\n
DTSTART;TZID=Europe/Berlin:20190818T103000
DTEND;TZID=Europe/Berlin:20190818T103000
SUMMARY:Arberkirchweih
URL:https://waldverein-freyung.de/index.php?option=com_jem&view=event&id=15
 1:arberkirchweih
END:VEVENT
END:VCALENDAR
