BEGIN:VCALENDAR
VERSION:2.0
PRODID:-//85.13.139.124//NONSGML kigkonsult.se iCalcreator 2.20//
CALSCALE:GREGORIAN
METHOD:PUBLISH
X-WR-TIMEZONE:Europe/Berlin
BEGIN:VEVENT
UID:event152@Bayerischer Wald-Verein, Sektion Freyung
DTSTAMP:20260422T132536Z
CATEGORIES:Jahresprogramm
DESCRIPTION:Wanderung zur Kelten-Burgstätte „Věnec“ (CZ)\nKategorie: Jahres
 programm\nICS-Link: https://waldverein-freyung.de/index.php?option=com_jem
 &view=event&id=152:wanderung-zur-kelten-burgstaette-venec-cz\n
DTSTART;TZID=Europe/Berlin:20190824T090000
DTEND;TZID=Europe/Berlin:20190824T090000
SUMMARY:Wanderung zur Kelten-Burgstätte „Věnec“ (CZ)
URL:https://waldverein-freyung.de/index.php?option=com_jem&view=event&id=15
 2:wanderung-zur-kelten-burgstaette-venec-cz
END:VEVENT
END:VCALENDAR
