BEGIN:VCALENDAR
VERSION:2.0
PRODID:-//85.13.139.124//NONSGML kigkonsult.se iCalcreator 2.20//
CALSCALE:GREGORIAN
METHOD:PUBLISH
X-WR-TIMEZONE:Europe/Berlin
BEGIN:VEVENT
UID:event153@Bayerischer Wald-Verein, Sektion Freyung
DTSTAMP:20260422T132940Z
CATEGORIES:Jahresprogramm
DESCRIPTION:4-Tages-Fahrt auf die Plose / Brixen Südtirol (I)\nKategorie: J
 ahresprogramm\nICS-Link: https://waldverein-freyung.de/index.php?option=co
 m_jem&view=event&id=153:4-tages-fahrt-auf-die-plose-brixen-suedtirol-i\n
DTSTART;TZID=Europe/Berlin:20190905T063000
DTEND;TZID=Europe/Berlin:20190908T063000
SUMMARY:4-Tages-Fahrt auf die Plose / Brixen Südtirol (I)
URL:https://waldverein-freyung.de/index.php?option=com_jem&view=event&id=15
 3:4-tages-fahrt-auf-die-plose-brixen-suedtirol-i
END:VEVENT
END:VCALENDAR
