BEGIN:VCALENDAR
VERSION:2.0
PRODID:-//85.13.139.124//NONSGML kigkonsult.se iCalcreator 2.20//
CALSCALE:GREGORIAN
METHOD:PUBLISH
X-WR-TIMEZONE:Europe/Berlin
BEGIN:VEVENT
UID:event154@Bayerischer Wald-Verein, Sektion Freyung
DTSTAMP:20260424T082927Z
CATEGORIES:Jahresprogramm
DESCRIPTION:Schachtenwanderung\nKategorie: Jahresprogramm\nICS-Link: https:
 //waldverein-freyung.de/index.php?option=com_jem&view=event&id=154:schacht
 enwanderung\n
DTSTART;TZID=Europe/Berlin:20190928T090000
DTEND;TZID=Europe/Berlin:20190928T090000
SUMMARY:Schachtenwanderung
URL:https://waldverein-freyung.de/index.php?option=com_jem&view=event&id=15
 4:schachtenwanderung
END:VEVENT
END:VCALENDAR
