BEGIN:VCALENDAR
VERSION:2.0
PRODID:-//85.13.139.124//NONSGML kigkonsult.se iCalcreator 2.20//
CALSCALE:GREGORIAN
METHOD:PUBLISH
X-WR-TIMEZONE:Europe/Berlin
BEGIN:VEVENT
UID:event156@Bayerischer Wald-Verein, Sektion Freyung
DTSTAMP:20260420T162118Z
CATEGORIES:Jahresprogramm
DESCRIPTION:Messe am Siebensteinkopf\nKategorie: Jahresprogramm\nICS-Link: 
 https://waldverein-freyung.de/index.php?option=com_jem&view=event&id=156:m
 esse-am-siebensteinkopf\n
DTSTART;TZID=Europe/Berlin:20191013T140000
DTEND;TZID=Europe/Berlin:20191013T140000
SUMMARY:Messe am Siebensteinkopf
URL:https://waldverein-freyung.de/index.php?option=com_jem&view=event&id=15
 6:messe-am-siebensteinkopf
END:VEVENT
END:VCALENDAR
