BEGIN:VCALENDAR
VERSION:2.0
PRODID:-//85.13.139.124//NONSGML kigkonsult.se iCalcreator 2.20//
CALSCALE:GREGORIAN
METHOD:PUBLISH
X-WR-TIMEZONE:Europe/Berlin
BEGIN:VEVENT
UID:event16@Bayerischer Wald-Verein, Sektion Freyung
DTSTAMP:20260420T132550Z
CATEGORIES:Jahresprogramm
DESCRIPTION:Skiwanderung\nKategorie: Jahresprogramm\nICS-Link: https://wald
 verein-freyung.de/index.php?option=com_jem&view=event&id=16:skiwanderung\n
DTSTART;VALUE=DATE:20160130
DTEND;VALUE=DATE:20160131
SUMMARY:Skiwanderung
URL:https://waldverein-freyung.de/index.php?option=com_jem&view=event&id=16
 :skiwanderung
END:VEVENT
END:VCALENDAR
