BEGIN:VCALENDAR
VERSION:2.0
PRODID:-//85.13.139.124//NONSGML kigkonsult.se iCalcreator 2.20//
CALSCALE:GREGORIAN
METHOD:PUBLISH
X-WR-TIMEZONE:Europe/Berlin
BEGIN:VEVENT
UID:event161@Bayerischer Wald-Verein, Sektion Freyung
DTSTAMP:20260422T085635Z
CATEGORIES:Jahresprogramm
DESCRIPTION:Historische Führung in Perlesreut durch Sektion Dreisessel\nKat
 egorie: Jahresprogramm\nICS-Link: https://waldverein-freyung.de/index.php?
 option=com_jem&view=event&id=161:historische-fuehrung-in-perlesreut-durch-
 sektion-dreisessel\n
DTSTART;VALUE=DATE:20191110
DTEND;VALUE=DATE:20191111
SUMMARY:Historische Führung in Perlesreut durch Sektion Dreisessel
URL:https://waldverein-freyung.de/index.php?option=com_jem&view=event&id=16
 1:historische-fuehrung-in-perlesreut-durch-sektion-dreisessel
END:VEVENT
END:VCALENDAR
