BEGIN:VCALENDAR
VERSION:2.0
PRODID:-//85.13.139.124//NONSGML kigkonsult.se iCalcreator 2.20//
CALSCALE:GREGORIAN
METHOD:PUBLISH
X-WR-TIMEZONE:Europe/Berlin
BEGIN:VEVENT
UID:event166@Bayerischer Wald-Verein, Sektion Freyung
DTSTAMP:20260422T085447Z
CATEGORIES:Jahresprogramm
DESCRIPTION:Schneeschuhwanderung um das Klosterfilz\nKategorie: Jahresprogr
 amm\nICS-Link: https://waldverein-freyung.de/index.php?option=com_jem&view
 =event&id=166:schneeschuhwanderung-um-das-klosterfilz\n
DTSTART;TZID=Europe/Berlin:20200208T100000
DTEND;TZID=Europe/Berlin:20200208T100000
SUMMARY:Schneeschuhwanderung um das Klosterfilz
URL:https://waldverein-freyung.de/index.php?option=com_jem&view=event&id=16
 6:schneeschuhwanderung-um-das-klosterfilz
END:VEVENT
END:VCALENDAR
