BEGIN:VCALENDAR
VERSION:2.0
PRODID:-//85.13.139.124//NONSGML kigkonsult.se iCalcreator 2.20//
CALSCALE:GREGORIAN
METHOD:PUBLISH
X-WR-TIMEZONE:Europe/Berlin
BEGIN:VEVENT
UID:event168@Bayerischer Wald-Verein, Sektion Freyung
DTSTAMP:20260420T162021Z
CATEGORIES:Jahresprogramm
DESCRIPTION:Aschermittwoch\nKategorie: Jahresprogramm\nICS-Link: https://wa
 ldverein-freyung.de/index.php?option=com_jem&view=event&id=168:aschermittw
 och\n
DTSTART;TZID=Europe/Berlin:20200226T090000
DTEND;TZID=Europe/Berlin:20200226T090000
SUMMARY:Aschermittwoch
URL:https://waldverein-freyung.de/index.php?option=com_jem&view=event&id=16
 8:aschermittwoch
END:VEVENT
END:VCALENDAR
