BEGIN:VCALENDAR
VERSION:2.0
PRODID:-//85.13.139.124//NONSGML kigkonsult.se iCalcreator 2.20//
CALSCALE:GREGORIAN
METHOD:PUBLISH
X-WR-TIMEZONE:Europe/Berlin
BEGIN:VEVENT
UID:event17@Bayerischer Wald-Verein, Sektion Freyung
DTSTAMP:20260422T102643Z
CATEGORIES:Jahresprogramm
DESCRIPTION:Schneeschuhwanderung zum Lusen\nKategorie: Jahresprogramm\nICS-
 Link: https://waldverein-freyung.de/index.php?option=com_jem&view=event&id
 =17:schneeschuhwanderung\n
DTSTART;TZID=Europe/Berlin:20160206T093000
DTEND;TZID=Europe/Berlin:20160206T093000
LOCATION:Lusen\,94078 Neuschönau
SUMMARY:Schneeschuhwanderung zum Lusen
URL:https://waldverein-freyung.de/index.php?option=com_jem&view=event&id=17
 :schneeschuhwanderung
END:VEVENT
END:VCALENDAR
