BEGIN:VCALENDAR
VERSION:2.0
PRODID:-//85.13.139.124//NONSGML kigkonsult.se iCalcreator 2.20//
CALSCALE:GREGORIAN
METHOD:PUBLISH
X-WR-TIMEZONE:Europe/Berlin
BEGIN:VEVENT
UID:event18@Bayerischer Wald-Verein, Sektion Freyung
DTSTAMP:20260420T132632Z
CATEGORIES:Jahresprogramm
DESCRIPTION:Aschermittwoch\nKategorie: Jahresprogramm\nICS-Link: https://wa
 ldverein-freyung.de/index.php?option=com_jem&view=event&id=18:aschermittwo
 ch\n
DTSTART;VALUE=DATE:20160210
DTEND;VALUE=DATE:20160211
SUMMARY:Aschermittwoch
URL:https://waldverein-freyung.de/index.php?option=com_jem&view=event&id=18
 :aschermittwoch
END:VEVENT
END:VCALENDAR
