BEGIN:VCALENDAR
VERSION:2.0
PRODID:-//85.13.139.124//NONSGML kigkonsult.se iCalcreator 2.20//
CALSCALE:GREGORIAN
METHOD:PUBLISH
X-WR-TIMEZONE:Europe/Berlin
BEGIN:VEVENT
UID:event189@Bayerischer Wald-Verein, Sektion Freyung
DTSTAMP:20260420T163819Z
CATEGORIES:Jahresprogramm
DESCRIPTION:Bergwanderung Grünstein (ABGESAGT)\nKategorie: Jahresprogramm\n
 ICS-Link: https://waldverein-freyung.de/index.php?option=com_jem&view=even
 t&id=189:bergwanderung-gruenstein\n
DTSTART;TZID=Europe/Berlin:20200912T060000
DTEND;TZID=Europe/Berlin:20200912T060000
SUMMARY:Bergwanderung Grünstein (ABGESAGT)
URL:https://waldverein-freyung.de/index.php?option=com_jem&view=event&id=18
 9:bergwanderung-gruenstein
END:VEVENT
END:VCALENDAR
