BEGIN:VCALENDAR
VERSION:2.0
PRODID:-//85.13.139.124//NONSGML kigkonsult.se iCalcreator 2.20//
CALSCALE:GREGORIAN
METHOD:PUBLISH
X-WR-TIMEZONE:Europe/Berlin
BEGIN:VEVENT
UID:event19@Bayerischer Wald-Verein, Sektion Freyung
DTSTAMP:20260420T200047Z
CATEGORIES:Jahresprogramm
DESCRIPTION:Schneeschuhwanderung in der Felswanderzone\nKategorie: Jahrespr
 ogramm\nICS-Link: https://waldverein-freyung.de/index.php?option=com_jem&v
 iew=event&id=19:schneeschuhwanderung-in-der-felswanderzone\n
DTSTART;TZID=Europe/Berlin:20160211T093000
DTEND;TZID=Europe/Berlin:20160211T093000
LOCATION:Nationalpark Bayerischer Wald
SUMMARY:Schneeschuhwanderung in der Felswanderzone
URL:https://waldverein-freyung.de/index.php?option=com_jem&view=event&id=19
 :schneeschuhwanderung-in-der-felswanderzone
END:VEVENT
END:VCALENDAR
