BEGIN:VCALENDAR
VERSION:2.0
PRODID:-//85.13.139.124//NONSGML kigkonsult.se iCalcreator 2.20//
CALSCALE:GREGORIAN
METHOD:PUBLISH
X-WR-TIMEZONE:Europe/Berlin
BEGIN:VEVENT
UID:event195@Bayerischer Wald-Verein, Sektion Freyung
DTSTAMP:20260420T150631Z
CATEGORIES:Jahresprogramm
DESCRIPTION:Herbstwanderung\nKategorie: Jahresprogramm\nICS-Link: https://w
 aldverein-freyung.de/index.php?option=com_jem&view=event&id=195:herbstwand
 erung\n
DTSTART;TZID=Europe/Berlin:20201004T080000
DTEND;TZID=Europe/Berlin:20201004T080000
SUMMARY:Herbstwanderung
URL:https://waldverein-freyung.de/index.php?option=com_jem&view=event&id=19
 5:herbstwanderung
END:VEVENT
END:VCALENDAR
