BEGIN:VCALENDAR
VERSION:2.0
PRODID:-//85.13.139.124//NONSGML kigkonsult.se iCalcreator 2.20//
CALSCALE:GREGORIAN
METHOD:PUBLISH
X-WR-TIMEZONE:Europe/Berlin
BEGIN:VEVENT
UID:event196@Bayerischer Wald-Verein, Sektion Freyung
DTSTAMP:20260420T163937Z
CATEGORIES:Jahresprogramm
DESCRIPTION:Wanderung bei Langdorf (VERSCHOBEN)\nKategorie: Jahresprogramm
 \nICS-Link: https://waldverein-freyung.de/index.php?option=com_jem&view=ev
 ent&id=196:wanderung-bei-langdorf\n
DTSTART;TZID=Europe/Berlin:20201010T091500
DTEND;TZID=Europe/Berlin:20201010T091500
SUMMARY:Wanderung bei Langdorf (VERSCHOBEN)
URL:https://waldverein-freyung.de/index.php?option=com_jem&view=event&id=19
 6:wanderung-bei-langdorf
END:VEVENT
END:VCALENDAR
