BEGIN:VCALENDAR
VERSION:2.0
PRODID:-//85.13.139.124//NONSGML kigkonsult.se iCalcreator 2.20//
CALSCALE:GREGORIAN
METHOD:PUBLISH
X-WR-TIMEZONE:Europe/Berlin
BEGIN:VEVENT
UID:event207@Bayerischer Wald-Verein, Sektion Freyung
DTSTAMP:20260420T183219Z
CATEGORIES:Jahresprogramm
DESCRIPTION:Winterwanderung auf den Gr. Rachel (evtl. mit Schneeschuhen)\nK
 ategorie: Jahresprogramm\nICS-Link: https://waldverein-freyung.de/index.ph
 p?option=com_jem&view=event&id=207:winterwanderung-auf-den-gr-rachel-evtl-
 mit-schneeschuhen\n
DTSTART;TZID=Europe/Berlin:20210307T090000
DTEND;TZID=Europe/Berlin:20210307T090000
SUMMARY:Winterwanderung auf den Gr. Rachel (evtl. mit Schneeschuhen)
URL:https://waldverein-freyung.de/index.php?option=com_jem&view=event&id=20
 7:winterwanderung-auf-den-gr-rachel-evtl-mit-schneeschuhen
END:VEVENT
END:VCALENDAR
