BEGIN:VCALENDAR
VERSION:2.0
PRODID:-//85.13.139.124//NONSGML kigkonsult.se iCalcreator 2.20//
CALSCALE:GREGORIAN
METHOD:PUBLISH
X-WR-TIMEZONE:Europe/Berlin
BEGIN:VEVENT
UID:event210@Bayerischer Wald-Verein, Sektion Freyung
DTSTAMP:20260420T165713Z
CATEGORIES:Jahresprogramm
DESCRIPTION:Wanderung mit Besichtigung eines Glashüttenstandorts\nKategorie
 : Jahresprogramm\nICS-Link: https://waldverein-freyung.de/index.php?option
 =com_jem&view=event&id=210:wanderung-mit-besichtigung-eines-glashuettensta
 ndorts\n
DTSTART;TZID=Europe/Berlin:20210417T130000
DTEND;TZID=Europe/Berlin:20210417T130000
SUMMARY:Wanderung mit Besichtigung eines Glashüttenstandorts
URL:https://waldverein-freyung.de/index.php?option=com_jem&view=event&id=21
 0:wanderung-mit-besichtigung-eines-glashuettenstandorts
END:VEVENT
END:VCALENDAR
