BEGIN:VCALENDAR
VERSION:2.0
PRODID:-//85.13.139.124//NONSGML kigkonsult.se iCalcreator 2.20//
CALSCALE:GREGORIAN
METHOD:PUBLISH
X-WR-TIMEZONE:Europe/Berlin
BEGIN:VEVENT
UID:event22@Bayerischer Wald-Verein, Sektion Freyung
DTSTAMP:20260420T200348Z
CATEGORIES:Jahresprogramm
DESCRIPTION:Jahresrückblick in Bildern\nKategorie: Jahresprogramm\nICS-Link
 : https://waldverein-freyung.de/index.php?option=com_jem&view=event&id=22:
 jahresrueckblick-in-bildern\n
DTSTART;TZID=Europe/Berlin:20160304T200000
DTEND;TZID=Europe/Berlin:20160304T200000
LOCATION:Gasthof zur Post\,Freyung
SUMMARY:Jahresrückblick in Bildern
URL:https://waldverein-freyung.de/index.php?option=com_jem&view=event&id=22
 :jahresrueckblick-in-bildern
END:VEVENT
END:VCALENDAR
