BEGIN:VCALENDAR
VERSION:2.0
PRODID:-//85.13.139.124//NONSGML kigkonsult.se iCalcreator 2.20//
CALSCALE:GREGORIAN
METHOD:PUBLISH
X-WR-TIMEZONE:Europe/Berlin
BEGIN:VEVENT
UID:event24@Bayerischer Wald-Verein, Sektion Freyung
DTSTAMP:20260424T112740Z
CATEGORIES:Jahresprogramm
DESCRIPTION:Helfenburg (CZ)\nKategorie: Jahresprogramm\nICS-Link: https://w
 aldverein-freyung.de/index.php?option=com_jem&view=event&id=24:helfenburg-
 cz\n
DTSTART;TZID=Europe/Berlin:20160402T090000
DTEND;TZID=Europe/Berlin:20160402T090000
LOCATION:Helfenburk u Bavorova\,Krajníčko
SUMMARY:Helfenburg (CZ)
URL:https://waldverein-freyung.de/index.php?option=com_jem&view=event&id=24
 :helfenburg-cz
END:VEVENT
END:VCALENDAR
