BEGIN:VCALENDAR
VERSION:2.0
PRODID:-//85.13.139.124//NONSGML kigkonsult.se iCalcreator 2.20//
CALSCALE:GREGORIAN
METHOD:PUBLISH
X-WR-TIMEZONE:Europe/Berlin
BEGIN:VEVENT
UID:event242@Bayerischer Wald-Verein, Sektion Freyung
DTSTAMP:20260420T160233Z
CATEGORIES:Jahresprogramm
DESCRIPTION:Winterwanderung auf den Gr. Rachel\nKategorie: Jahresprogramm\n
 ICS-Link: https://waldverein-freyung.de/index.php?option=com_jem&view=even
 t&id=242:winterwanderung-auf-den-gr-rachel\n
DTSTART;TZID=Europe/Berlin:20220312T090000
DTEND;TZID=Europe/Berlin:20220312T090000
SUMMARY:Winterwanderung auf den Gr. Rachel
URL:https://waldverein-freyung.de/index.php?option=com_jem&view=event&id=24
 2:winterwanderung-auf-den-gr-rachel
END:VEVENT
END:VCALENDAR
