BEGIN:VCALENDAR
VERSION:2.0
PRODID:-//85.13.139.124//NONSGML kigkonsult.se iCalcreator 2.20//
CALSCALE:GREGORIAN
METHOD:PUBLISH
X-WR-TIMEZONE:Europe/Berlin
BEGIN:VEVENT
UID:event243@Bayerischer Wald-Verein, Sektion Freyung
DTSTAMP:20260420T155548Z
CATEGORIES:Jahresprogramm
DESCRIPTION:Kreuzweg in der Leithe\nKategorie: Jahresprogramm\nICS-Link: ht
 tps://waldverein-freyung.de/index.php?option=com_jem&view=event&id=243:kre
 uzweg-in-der-leithe\n
DTSTART;TZID=Europe/Berlin:20220316T090000
DTEND;TZID=Europe/Berlin:20220316T090000
SUMMARY:Kreuzweg in der Leithe
URL:https://waldverein-freyung.de/index.php?option=com_jem&view=event&id=24
 3:kreuzweg-in-der-leithe
END:VEVENT
END:VCALENDAR
