BEGIN:VCALENDAR
VERSION:2.0
PRODID:-//85.13.139.124//NONSGML kigkonsult.se iCalcreator 2.20//
CALSCALE:GREGORIAN
METHOD:PUBLISH
X-WR-TIMEZONE:Europe/Berlin
BEGIN:VEVENT
UID:event244@Bayerischer Wald-Verein, Sektion Freyung
DTSTAMP:20260422T132520Z
CATEGORIES:Jahresprogramm
DESCRIPTION:Wanderung mit Besichtigung eines  Glashüttenstandorts\nKategori
 e: Jahresprogramm\nICS-Link: https://waldverein-freyung.de/index.php?optio
 n=com_jem&view=event&id=244:wanderung-mit-besichtigung-eines-glashuettenst
 andorts\n
DTSTART;TZID=Europe/Berlin:20220402T130000
DTEND;TZID=Europe/Berlin:20220402T130000
SUMMARY:Wanderung mit Besichtigung eines  Glashüttenstandorts
URL:https://waldverein-freyung.de/index.php?option=com_jem&view=event&id=24
 4:wanderung-mit-besichtigung-eines-glashuettenstandorts
END:VEVENT
END:VCALENDAR
