BEGIN:VCALENDAR
VERSION:2.0
PRODID:-//85.13.139.124//NONSGML kigkonsult.se iCalcreator 2.20//
CALSCALE:GREGORIAN
METHOD:PUBLISH
X-WR-TIMEZONE:Europe/Berlin
BEGIN:VEVENT
UID:event248@Bayerischer Wald-Verein, Sektion Freyung
DTSTAMP:20260424T095208Z
CATEGORIES:Jahresprogramm
DESCRIPTION:Bayerwaldtage in Lohberg\nKategorie: Jahresprogramm\nICS-Link: 
 https://waldverein-freyung.de/index.php?option=com_jem&view=event&id=248:b
 ayerwaldtage-in-lohberg\n
DTSTART;VALUE=DATE:20220521
DTEND;VALUE=DATE:20220523
SUMMARY:Bayerwaldtage in Lohberg
URL:https://waldverein-freyung.de/index.php?option=com_jem&view=event&id=24
 8:bayerwaldtage-in-lohberg
END:VEVENT
END:VCALENDAR
