BEGIN:VCALENDAR
VERSION:2.0
PRODID:-//85.13.139.124//NONSGML kigkonsult.se iCalcreator 2.20//
CALSCALE:GREGORIAN
METHOD:PUBLISH
X-WR-TIMEZONE:Europe/Berlin
BEGIN:VEVENT
UID:event25@Bayerischer Wald-Verein, Sektion Freyung
DTSTAMP:20260424T112838Z
CATEGORIES:Jahresprogramm
DESCRIPTION:Hoher Sachsen\nKategorie: Jahresprogramm\nICS-Link: https://wal
 dverein-freyung.de/index.php?option=com_jem&view=event&id=25:hoher-sachsen
 \n
DTSTART;TZID=Europe/Berlin:20160416T130000
DTEND;TZID=Europe/Berlin:20160416T130000
SUMMARY:Hoher Sachsen
URL:https://waldverein-freyung.de/index.php?option=com_jem&view=event&id=25
 :hoher-sachsen
END:VEVENT
END:VCALENDAR
